BEGIN:VCALENDAR
VERSION:2.0
PRODID:-//TourismLab - ECPv6.15.18//NONSGML v1.0//EN
CALSCALE:GREGORIAN
METHOD:PUBLISH
X-WR-CALNAME:TourismLab
X-ORIGINAL-URL:https://tourismlab.eu/nl/
X-WR-CALDESC:Evenementen voor TourismLab
REFRESH-INTERVAL;VALUE=DURATION:PT1H
X-Robots-Tag:noindex
X-PUBLISHED-TTL:PT1H
BEGIN:VTIMEZONE
TZID:Europe/Paris
BEGIN:DAYLIGHT
TZOFFSETFROM:+0100
TZOFFSETTO:+0200
TZNAME:CEST
DTSTART:20200329T010000
END:DAYLIGHT
BEGIN:STANDARD
TZOFFSETFROM:+0200
TZOFFSETTO:+0100
TZNAME:CET
DTSTART:20201025T010000
END:STANDARD
BEGIN:DAYLIGHT
TZOFFSETFROM:+0100
TZOFFSETTO:+0200
TZNAME:CEST
DTSTART:20210328T010000
END:DAYLIGHT
BEGIN:STANDARD
TZOFFSETFROM:+0200
TZOFFSETTO:+0100
TZNAME:CET
DTSTART:20211031T010000
END:STANDARD
BEGIN:DAYLIGHT
TZOFFSETFROM:+0100
TZOFFSETTO:+0200
TZNAME:CEST
DTSTART:20220327T010000
END:DAYLIGHT
BEGIN:STANDARD
TZOFFSETFROM:+0200
TZOFFSETTO:+0100
TZNAME:CET
DTSTART:20221030T010000
END:STANDARD
END:VTIMEZONE
BEGIN:VEVENT
DTSTART;TZID=Europe/Paris:20211012T090000
DTEND;TZID=Europe/Paris:20211012T173000
DTSTAMP:20260420T011140
CREATED:20210722T125705Z
LAST-MODIFIED:20220106T113445Z
UID:4601-1634029200-1634059800@tourismlab.eu
SUMMARY:Co-creatiesessie individuele belevingen Westhoek
DESCRIPTION:Doelstelling\nHet ontwikkelen van een individuele beleving in jouw onderneming. Via co-creatie met andere deelnemers kom je op de beste concepten en kun je jouw beleving een extra dimensie geven. \n\nDoelgroep\nToeristische ondernemers die willen inzetten op meer beleving in hun zaak. \n\nVereisten\nGeen enkele! Goesting\, nieuwsgierigheid\, open mind en creativiteit. \n\nInhoud van de workshop\nWe werken verder op de ideeën van de inspiratiesessie in september en gaan via verschillende rondes werken naar concrete nieuwe belevingsconcepten voor jouw zaak. \n\nLesgevers\nStudio XD\nAls experten in het ontwikkelen van belevingsconcepten\, nemen ze ons mee in de wereld van Design thinking en Experience Design. Wat is een goeie beleving en hoe is die opgebouwd? Ze inspireren\, geven ons tips\, begeleiden ons denkproces\, fungeren als klankbord en helpen bij het ontwikkelen van onze concepten. \nMichel Groenenstijn\nAl ruim vijftien jaar ondernemer. Altijd op zoek naar hoe dingen anders\, beter\, leuker kunnen. Na de verkoop van zijn reisorganisatie gestart met het ontwerpen en bouwen van experiences. Michel is vaak de initiator en verbinder in een project. Naast Studio XD co-founder van Goya Experiences en Hotel Wonderland. \nRaymond Klompsma\nRaymond is een gepassioneerd ervaringsdeskundige. Oprichter van srprs.me\, co-founder van Goya Experiences en werkt momenteel als founder aan Hotel Wonderland. Creatief brein en expert op het vlak van PR en marketing. \n\nBelangrijk om te weten\nHet begeleidingstraject omvat een co-creatiesessie\, individuele coaching en klankborden met experten. Je wordt individueel begeleid door een belevingsexpert om je concept vorm te geven en te helpen uitvoeren. \nBeperkt aantal deelnemers. \nInschrijven
URL:https://tourismlab.eu/nl/evenement/co-creatiesessie-individuele-belevingen-westhoek/
LOCATION:Poperinge\, België
CATEGORIES:Opleiding,Past
END:VEVENT
END:VCALENDAR