BEGIN:VCALENDAR
VERSION:2.0
PRODID:-//TourismLab - ECPv6.15.18//NONSGML v1.0//EN
CALSCALE:GREGORIAN
METHOD:PUBLISH
X-WR-CALNAME:TourismLab
X-ORIGINAL-URL:https://tourismlab.eu/nl/
X-WR-CALDESC:Evenementen voor TourismLab
REFRESH-INTERVAL;VALUE=DURATION:PT1H
X-Robots-Tag:noindex
X-PUBLISHED-TTL:PT1H
BEGIN:VTIMEZONE
TZID:Europe/Paris
BEGIN:DAYLIGHT
TZOFFSETFROM:+0100
TZOFFSETTO:+0200
TZNAME:CEST
DTSTART:20210328T010000
END:DAYLIGHT
BEGIN:STANDARD
TZOFFSETFROM:+0200
TZOFFSETTO:+0100
TZNAME:CET
DTSTART:20211031T010000
END:STANDARD
BEGIN:DAYLIGHT
TZOFFSETFROM:+0100
TZOFFSETTO:+0200
TZNAME:CEST
DTSTART:20220327T010000
END:DAYLIGHT
BEGIN:STANDARD
TZOFFSETFROM:+0200
TZOFFSETTO:+0100
TZNAME:CET
DTSTART:20221030T010000
END:STANDARD
BEGIN:DAYLIGHT
TZOFFSETFROM:+0100
TZOFFSETTO:+0200
TZNAME:CEST
DTSTART:20230326T010000
END:DAYLIGHT
BEGIN:STANDARD
TZOFFSETFROM:+0200
TZOFFSETTO:+0100
TZNAME:CET
DTSTART:20231029T010000
END:STANDARD
END:VTIMEZONE
BEGIN:VEVENT
DTSTART;TZID=Europe/Paris:20220505T080000
DTEND;TZID=Europe/Paris:20220518T170000
DTSTAMP:20260424T123254
CREATED:20220505T094425Z
LAST-MODIFIED:20220613T143805Z
UID:4903-1651737600-1652893200@tourismlab.eu
SUMMARY:Hang een adembenemende kustfoto op in jouw onderneming!
DESCRIPTION:Binnen het Europese project Tourism Lab bieden bieden we jou de kans om foto’s van adembenemende plekken tentoon te stellen in jouw onderneming. Op die manier bouwen we aan een unieke fototentoonstelling langs de ganse kust. \n\nWat bieden we jou aan? \n\nJe maakt een eigen keuze van de foto die je wilt tentoon stellen in jouw onderneming.\nDeze foto wordt gratis kwalitatief geprint en professioneel opgehangen in jouw onderneming.\nJouw onderneming wordt meegepromoot in een grensoverschrijdende kustcampagne in 2022 en 2023.\n\nWat verwachten van jou? \n\nJe stelt de foto tentoon op een zichtbare plaats in jouw onderneming.\nJe bent mee ambassadeur van adembenemende plekken in de kustregio\n\n\n\nWil je met jouw onderneming graag deel uitmaken van deze unieke fototentoonstelling langs de kust? Schrijf je dan nu in via onderstaande link. Wij nemen nadien contact met je op. \nNog vragen? \nStuur een e-mail naar iris.vanderborght@westtoer.be of bel +32 (0)496 87 68 68. \nIk wil een foto in mijn onderneming!
URL:https://tourismlab.eu/nl/evenement/hang-een-adembenemende-kustfoto-op-in-jouw-onderneming/
CATEGORIES:Opleiding,Past
END:VEVENT
END:VCALENDAR