BEGIN:VCALENDAR
VERSION:2.0
PRODID:-//TourismLab - ECPv6.15.18//NONSGML v1.0//EN
CALSCALE:GREGORIAN
METHOD:PUBLISH
X-WR-CALNAME:TourismLab
X-ORIGINAL-URL:https://tourismlab.eu/nl/
X-WR-CALDESC:Evenementen voor TourismLab
REFRESH-INTERVAL;VALUE=DURATION:PT1H
X-Robots-Tag:noindex
X-PUBLISHED-TTL:PT1H
BEGIN:VTIMEZONE
TZID:Europe/Paris
BEGIN:DAYLIGHT
TZOFFSETFROM:+0100
TZOFFSETTO:+0200
TZNAME:CEST
DTSTART:20190331T010000
END:DAYLIGHT
BEGIN:STANDARD
TZOFFSETFROM:+0200
TZOFFSETTO:+0100
TZNAME:CET
DTSTART:20191027T010000
END:STANDARD
BEGIN:DAYLIGHT
TZOFFSETFROM:+0100
TZOFFSETTO:+0200
TZNAME:CEST
DTSTART:20200329T010000
END:DAYLIGHT
BEGIN:STANDARD
TZOFFSETFROM:+0200
TZOFFSETTO:+0100
TZNAME:CET
DTSTART:20201025T010000
END:STANDARD
BEGIN:DAYLIGHT
TZOFFSETFROM:+0100
TZOFFSETTO:+0200
TZNAME:CEST
DTSTART:20210328T010000
END:DAYLIGHT
BEGIN:STANDARD
TZOFFSETFROM:+0200
TZOFFSETTO:+0100
TZNAME:CET
DTSTART:20211031T010000
END:STANDARD
END:VTIMEZONE
BEGIN:VEVENT
DTSTART;TZID=Europe/Paris:20201214T090000
DTEND;TZID=Europe/Paris:20201217T170000
DTSTAMP:20260420T010902
CREATED:20210329T124956Z
LAST-MODIFIED:20210428T135629Z
UID:3174-1607936400-1608224400@tourismlab.eu
SUMMARY:Opleiding Innovatiemanager Groene Regio's 4/4
DESCRIPTION:Online opleiding met op het programma:\n– Hoe gaan we onze concepten valideren?\n– Hoe vullen we onze concepten precies in?
URL:https://tourismlab.eu/nl/evenement/opleiding-innovatiemanager-groene-regios-4-4/
LOCATION:Videoconferentie
CATEGORIES:Past
END:VEVENT
END:VCALENDAR