BEGIN:VCALENDAR
VERSION:2.0
PRODID:-//TourismLab - ECPv6.15.18//NONSGML v1.0//EN
CALSCALE:GREGORIAN
METHOD:PUBLISH
X-WR-CALNAME:TourismLab
X-ORIGINAL-URL:https://tourismlab.eu/nl/
X-WR-CALDESC:Evenementen voor TourismLab
REFRESH-INTERVAL;VALUE=DURATION:PT1H
X-Robots-Tag:noindex
X-PUBLISHED-TTL:PT1H
BEGIN:VTIMEZONE
TZID:Europe/Paris
BEGIN:DAYLIGHT
TZOFFSETFROM:+0100
TZOFFSETTO:+0200
TZNAME:CEST
DTSTART:20190331T010000
END:DAYLIGHT
BEGIN:STANDARD
TZOFFSETFROM:+0200
TZOFFSETTO:+0100
TZNAME:CET
DTSTART:20191027T010000
END:STANDARD
BEGIN:DAYLIGHT
TZOFFSETFROM:+0100
TZOFFSETTO:+0200
TZNAME:CEST
DTSTART:20200329T010000
END:DAYLIGHT
BEGIN:STANDARD
TZOFFSETFROM:+0200
TZOFFSETTO:+0100
TZNAME:CET
DTSTART:20201025T010000
END:STANDARD
BEGIN:DAYLIGHT
TZOFFSETFROM:+0100
TZOFFSETTO:+0200
TZNAME:CEST
DTSTART:20210328T010000
END:DAYLIGHT
BEGIN:STANDARD
TZOFFSETFROM:+0200
TZOFFSETTO:+0100
TZNAME:CET
DTSTART:20211031T010000
END:STANDARD
END:VTIMEZONE
BEGIN:VEVENT
DTSTART;TZID=Europe/Paris:20200923T090000
DTEND;TZID=Europe/Paris:20200924T170000
DTSTAMP:20260419T233239
CREATED:20210413T074046Z
LAST-MODIFIED:20210428T135728Z
UID:3514-1600851600-1600966800@tourismlab.eu
SUMMARY:Opleiding Innovatiemanager Kust sessie 1
DESCRIPTION:Live opleiding met op het programma:\n– Wat is innovatie? Wat is beleving?\n– Waarom willen we op deze tendensen inspelen aan de Kust?\n– Hoe kunnen we dit als groep realiseren?\n– Rond welke thema’s kunnen we werken?\n– Brainstorming en discussies
URL:https://tourismlab.eu/nl/evenement/opleiding-innovatiemanager-kust-sessie-1/
LOCATION:Fort Napoleon\, Oostende\, Vuurtorenweg 13\, Oostende\, 8400\, België
CATEGORIES:Past
END:VEVENT
END:VCALENDAR